BEGIN:VCALENDAR
VERSION:2.0
PRODID:-//StreamRadar//Match Calendar//EN
CALSCALE:GREGORIAN
METHOD:PUBLISH
X-WR-CALNAME:Azam vs Namungo
X-WR-TIMEZONE:America/New_York
BEGIN:VEVENT
UID:match-5608355@streamradar.soccer
SUMMARY:Azam vs Namungo
DTSTAMP:20260421T104133Z
DTSTART;TZID=America/New_York:20260505T113000
DTEND;TZID=America/New_York:20260505T133000
LOCATION:Azam Complex Stadium
DESCRIPTION:Gdzie oglądać Azam vs Namungo w Tanzania Premier League. Tran
 smisja na żywo i program TV.\nhttps://streamradar.soccer/pl/match/5608355/
 azam-vs-namungo/
URL;VALUE=URI:https://streamradar.soccer/pl/match/5608355/azam-vs-namungo/
STATUS:CONFIRMED
END:VEVENT
END:VCALENDAR
