BEGIN:VCALENDAR
VERSION:2.0
PRODID:-//StreamRadar//Match Calendar//EN
CALSCALE:GREGORIAN
METHOD:PUBLISH
X-WR-CALNAME:Tombense vs Rio Branco ES
X-WR-TIMEZONE:America/New_York
BEGIN:VEVENT
UID:match-5607456@streamradar.soccer
SUMMARY:Tombense vs Rio Branco ES
DTSTAMP:20260421T092049Z
DTSTART;TZID=America/New_York:20260503T170000
DTEND;TZID=America/New_York:20260503T190000
LOCATION:Estadio Antonio Guimaraes de Almeida
DESCRIPTION:Gdzie oglądać Tombense vs Rio Branco ES w Brazylia - Serie D 
 w Brazylii. Transmisja na żywo i program TV.\nhttps://streamradar.soccer/p
 l/match/5607456/tombense-vs-rio-branco-es/
URL;VALUE=URI:https://streamradar.soccer/pl/match/5607456/tombense-vs-rio-b
 ranco-es/
STATUS:CONFIRMED
END:VEVENT
END:VCALENDAR
