BEGIN:VCALENDAR
VERSION:2.0
PRODID:-//StreamRadar//Match Calendar//EN
CALSCALE:GREGORIAN
METHOD:PUBLISH
X-WR-CALNAME:Brasiliense vs Aparecidense
X-WR-TIMEZONE:America/New_York
BEGIN:VEVENT
UID:match-5607439@streamradar.soccer
SUMMARY:Brasiliense vs Aparecidense
DTSTAMP:20260421T104156Z
DTSTART;TZID=America/New_York:20260503T150000
DTEND;TZID=America/New_York:20260503T170000
DESCRIPTION:Gdzie oglądać Brasiliense vs Aparecidense w Brazylia - Serie 
 D w Brazylii. Transmisja na żywo i program TV.\nhttps://streamradar.soccer
 /pl/match/5607439/brasiliense-vs-aparecidense/
URL;VALUE=URI:https://streamradar.soccer/pl/match/5607439/brasiliense-vs-ap
 arecidense/
STATUS:CONFIRMED
END:VEVENT
END:VCALENDAR
