BEGIN:VCALENDAR
VERSION:2.0
PRODID:-//StreamRadar//Match Calendar//EN
CALSCALE:GREGORIAN
METHOD:PUBLISH
X-WR-CALNAME:Vålerenga vs Haugesund
X-WR-TIMEZONE:America/New_York
BEGIN:VEVENT
UID:match-5604395@streamradar.soccer
SUMMARY:Vålerenga vs Haugesund
DTSTAMP:20260422T053928Z
DTSTART;TZID=America/New_York:20260919T090000
DTEND;TZID=America/New_York:20260919T110000
LOCATION:Intility Arena
DESCRIPTION:Gdzie oglądać Vålerenga vs Haugesund w Norwegia - Toppserien
 . Transmisja na żywo i program TV.\nhttps://streamradar.soccer/pl/match/56
 04395/valerenga-vs-haugesund/
URL;VALUE=URI:https://streamradar.soccer/pl/match/5604395/valerenga-vs-haug
 esund/
STATUS:CONFIRMED
END:VEVENT
END:VCALENDAR
