BEGIN:VCALENDAR
VERSION:2.0
PRODID:-//StreamRadar//Match Calendar//EN
CALSCALE:GREGORIAN
METHOD:PUBLISH
X-WR-CALNAME:Gomel vs Dinamo Minsk II
X-WR-TIMEZONE:America/New_York
BEGIN:VEVENT
UID:match-5594936@streamradar.soccer
SUMMARY:Gomel vs Dinamo Minsk II
DTSTAMP:20260423T200353Z
DTSTART;TZID=America/New_York:20260919T110000
DTEND;TZID=America/New_York:20260919T130000
LOCATION:Centralnyj Stadion
DESCRIPTION:Gdzie oglądać Gomel vs Dinamo Minsk II w Białoruś - Pierwsz
 a Liga Białoruska. Transmisja na żywo i program TV.\nhttps://streamradar.
 soccer/pl/match/5594936/gomel-vs-dinamo-minsk-ii/
URL;VALUE=URI:https://streamradar.soccer/pl/match/5594936/gomel-vs-dinamo-m
 insk-ii/
STATUS:CONFIRMED
END:VEVENT
END:VCALENDAR
