BEGIN:VCALENDAR
VERSION:2.0
PRODID:-//StreamRadar//Match Calendar//EN
CALSCALE:GREGORIAN
METHOD:PUBLISH
X-WR-CALNAME:Huracán vs Barracas Central
X-WR-TIMEZONE:America/New_York
BEGIN:VEVENT
UID:match-5569622@streamradar.soccer
SUMMARY:Huracán vs Barracas Central
DTSTAMP:20260422T143425Z
DTSTART;TZID=America/New_York:20260323T201500
DTEND;TZID=America/New_York:20260323T221500
LOCATION:Estadio Tomás Adolfo Ducó (Capital Federal\, Ciudad de Buenos Ai
 res)
DESCRIPTION:Gdzie oglądać Huracán vs Barracas Central w Argentyna - Prim
 era División Argentine dywizja. Transmisja na żywo i program TV.\nhttps:/
 /streamradar.soccer/pl/match/5569622/huracan-vs-barracas-central/
URL;VALUE=URI:https://streamradar.soccer/pl/match/5569622/huracan-vs-barrac
 as-central/
STATUS:CONFIRMED
END:VEVENT
END:VCALENDAR
