BEGIN:VCALENDAR
VERSION:2.0
PRODID:-//StreamRadar//Match Calendar//EN
CALSCALE:GREGORIAN
METHOD:PUBLISH
X-WR-CALNAME:Bjelovar vs Varteks Varaždin
X-WR-TIMEZONE:America/New_York
BEGIN:VEVENT
UID:match-5568963@streamradar.soccer
SUMMARY:Bjelovar vs Varteks Varaždin
DTSTAMP:20260423T024837Z
DTSTART;TZID=America/New_York:20260310T100000
DTEND;TZID=America/New_York:20260310T120000
LOCATION:Gradski Stadion (Bjelovar)
DESCRIPTION:Gdzie oglądać Bjelovar vs Varteks Varaždin w Chorwacja - 2. 
 liga chorwacka. Transmisja na żywo i program TV.\nhttps://streamradar.socc
 er/pl/match/5568963/bjelovar-vs-varteks-varazdin/
URL;VALUE=URI:https://streamradar.soccer/pl/match/5568963/bjelovar-vs-varte
 ks-varazdin/
STATUS:CONFIRMED
END:VEVENT
END:VCALENDAR
