BEGIN:VCALENDAR
VERSION:2.0
PRODID:-//StreamRadar//Match Calendar//EN
CALSCALE:GREGORIAN
METHOD:PUBLISH
X-WR-CALNAME:Parnu JK VaprUS U21 vs Legion
X-WR-TIMEZONE:America/New_York
BEGIN:VEVENT
UID:match-5567597@streamradar.soccer
SUMMARY:Parnu JK VaprUS U21 vs Legion
DTSTAMP:20260423T155713Z
DTSTART;TZID=America/New_York:20260920T053000
DTEND;TZID=America/New_York:20260920T073000
DESCRIPTION:Gdzie oglądać Parnu JK VaprUS U21 vs Legion w Estonia - Esili
 iga B. Transmisja na żywo i program TV.\nhttps://streamradar.soccer/pl/mat
 ch/5567597/parnu-jk-vaprus-u21-vs-legion/
URL;VALUE=URI:https://streamradar.soccer/pl/match/5567597/parnu-jk-vaprus-u
 21-vs-legion/
STATUS:CONFIRMED
END:VEVENT
END:VCALENDAR
