BEGIN:VCALENDAR
VERSION:2.0
PRODID:-//StreamRadar//Match Calendar//EN
CALSCALE:GREGORIAN
METHOD:PUBLISH
X-WR-CALNAME:Astrio vs Onsala
X-WR-TIMEZONE:America/New_York
BEGIN:VEVENT
UID:match-5567083@streamradar.soccer
SUMMARY:Astrio vs Onsala
DTSTAMP:20260422T181610Z
DTSTART;TZID=America/New_York:20260919T070000
DTEND;TZID=America/New_York:20260919T090000
DESCRIPTION:Gdzie oglądać Astrio vs Onsala w Szwecja - Superettan. Transm
 isja na żywo i program TV.\nhttps://streamradar.soccer/pl/match/5567083/as
 trio-vs-onsala/
URL;VALUE=URI:https://streamradar.soccer/pl/match/5567083/astrio-vs-onsala/
STATUS:CONFIRMED
END:VEVENT
END:VCALENDAR
