BEGIN:VCALENDAR
VERSION:2.0
PRODID:-//StreamRadar//Match Calendar//EN
CALSCALE:GREGORIAN
METHOD:PUBLISH
X-WR-CALNAME:Smedby vs Fittja
X-WR-TIMEZONE:America/New_York
BEGIN:VEVENT
UID:match-5566901@streamradar.soccer
SUMMARY:Smedby vs Fittja
DTSTAMP:20260422T181554Z
DTSTART;TZID=America/New_York:20260919T070000
DTEND;TZID=America/New_York:20260919T090000
DESCRIPTION:Gdzie oglądać Smedby vs Fittja w Szwecja - Superettan. Transm
 isja na żywo i program TV.\nhttps://streamradar.soccer/pl/match/5566901/sm
 edby-vs-fittja/
URL;VALUE=URI:https://streamradar.soccer/pl/match/5566901/smedby-vs-fittja/
STATUS:CONFIRMED
END:VEVENT
END:VCALENDAR
