BEGIN:VCALENDAR
VERSION:2.0
PRODID:-//StreamRadar//Match Calendar//EN
CALSCALE:GREGORIAN
METHOD:PUBLISH
X-WR-CALNAME:Forward vs Lindo FF
X-WR-TIMEZONE:America/New_York
BEGIN:VEVENT
UID:match-5566899@streamradar.soccer
SUMMARY:Forward vs Lindo FF
DTSTAMP:20260422T181504Z
DTSTART;TZID=America/New_York:20260919T070000
DTEND;TZID=America/New_York:20260919T090000
DESCRIPTION:Gdzie oglądać Forward vs Lindo FF w Szwecja - Superettan. Tra
 nsmisja na żywo i program TV.\nhttps://streamradar.soccer/pl/match/5566899
 /forward-vs-lindo-ff/
URL;VALUE=URI:https://streamradar.soccer/pl/match/5566899/forward-vs-lindo-
 ff/
STATUS:CONFIRMED
END:VEVENT
END:VCALENDAR
