BEGIN:VCALENDAR
VERSION:2.0
PRODID:-//StreamRadar//Match Calendar//EN
CALSCALE:GREGORIAN
METHOD:PUBLISH
X-WR-CALNAME:Busan I'Park vs Ansan Greeners
X-WR-TIMEZONE:America/New_York
BEGIN:VEVENT
UID:match-5563224@streamradar.soccer
SUMMARY:Busan I'Park vs Ansan Greeners
DTSTAMP:20260422T030916Z
DTSTART;TZID=America/New_York:20260905T060000
DTEND;TZID=America/New_York:20260905T080000
LOCATION:Busan Gudeok Stadium
DESCRIPTION:Gdzie oglądać Busan I'Park vs Ansan Greeners w Republika Kore
 i - K League 2. Transmisja na żywo i program TV.\nhttps://streamradar.socc
 er/pl/match/5563224/busan-ipark-vs-ansan-greeners/
URL;VALUE=URI:https://streamradar.soccer/pl/match/5563224/busan-ipark-vs-an
 san-greeners/
STATUS:CONFIRMED
END:VEVENT
END:VCALENDAR
