BEGIN:VCALENDAR
VERSION:2.0
PRODID:-//StreamRadar//Match Calendar//EN
CALSCALE:GREGORIAN
METHOD:PUBLISH
X-WR-CALNAME:Italy U19 vs Poland U19
X-WR-TIMEZONE:America/New_York
BEGIN:VEVENT
UID:match-5562816@streamradar.soccer
SUMMARY:Italy U19 vs Poland U19
DTSTAMP:20260423T033418Z
DTSTART;TZID=America/New_York:20260307T050000
DTEND;TZID=America/New_York:20260307T070000
DESCRIPTION:Gdzie oglądać Italy U19 vs Poland U19 w Mecz Towarzyski Kobie
 t. Transmisja na żywo i program TV.\nhttps://streamradar.soccer/pl/match/5
 562816/italy-u19-vs-poland-u19/
URL;VALUE=URI:https://streamradar.soccer/pl/match/5562816/italy-u19-vs-pola
 nd-u19/
STATUS:CONFIRMED
END:VEVENT
END:VCALENDAR
