BEGIN:VCALENDAR
VERSION:2.0
PRODID:-//StreamRadar//Match Calendar//EN
CALSCALE:GREGORIAN
METHOD:PUBLISH
X-WR-CALNAME:Surkhon vs Kokand-1912
X-WR-TIMEZONE:America/New_York
BEGIN:VEVENT
UID:match-5561482@streamradar.soccer
SUMMARY:Surkhon vs Kokand-1912
DTSTAMP:20260421T165053Z
DTSTART;TZID=America/New_York:20260918T110000
DTEND;TZID=America/New_York:20260918T130000
LOCATION:Stadion Surkhon
DESCRIPTION:Gdzie oglądać Surkhon vs Kokand-1912 w Uzbekistan Super Leagu
 e. Transmisja na żywo i program TV.\nhttps://streamradar.soccer/pl/match/5
 561482/surkhon-vs-kokand-1912/
URL;VALUE=URI:https://streamradar.soccer/pl/match/5561482/surkhon-vs-kokand
 -1912/
STATUS:CONFIRMED
END:VEVENT
END:VCALENDAR
