BEGIN:VCALENDAR
VERSION:2.0
PRODID:-//StreamRadar//Match Calendar//EN
CALSCALE:GREGORIAN
METHOD:PUBLISH
X-WR-CALNAME:Chengdu Rongcheng vs Wuhan Three Towns
X-WR-TIMEZONE:America/New_York
BEGIN:VEVENT
UID:match-5560357@streamradar.soccer
SUMMARY:Chengdu Rongcheng vs Wuhan Three Towns
DTSTAMP:20260421T185328Z
DTSTART;TZID=America/New_York:20260801T080000
DTEND;TZID=America/New_York:20260801T100000
LOCATION:Chengdu Phoenix Hill Sports Park
DESCRIPTION:Gdzie oglądać Chengdu Rongcheng vs Wuhan Three Towns w Chiny 
 - Chinese Super League. Transmisja na żywo i program TV.\nhttps://streamra
 dar.soccer/pl/match/5560357/chengdu-rongcheng-vs-wuhan-three-towns/
URL;VALUE=URI:https://streamradar.soccer/pl/match/5560357/chengdu-rongcheng
 -vs-wuhan-three-towns/
STATUS:CONFIRMED
END:VEVENT
END:VCALENDAR
