BEGIN:VCALENDAR
VERSION:2.0
PRODID:-//StreamRadar//Match Calendar//EN
CALSCALE:GREGORIAN
METHOD:PUBLISH
X-WR-CALNAME:Racing Córdoba vs Godoy Cruz
X-WR-TIMEZONE:America/New_York
BEGIN:VEVENT
UID:match-5560125@streamradar.soccer
SUMMARY:Racing Córdoba vs Godoy Cruz
DTSTAMP:20260422T054707Z
DTSTART;TZID=America/New_York:20260919T160000
DTEND;TZID=America/New_York:20260919T180000
LOCATION:Estadio Miguel Sancho
DESCRIPTION:Gdzie oglądać Racing Córdoba vs Godoy Cruz w Argentyna - Pri
 mera Nacional. Transmisja na żywo i program TV.\nhttps://streamradar.socce
 r/pl/match/5560125/racing-cordoba-vs-godoy-cruz/
URL;VALUE=URI:https://streamradar.soccer/pl/match/5560125/racing-cordoba-vs
 -godoy-cruz/
STATUS:CONFIRMED
END:VEVENT
END:VCALENDAR
