BEGIN:VCALENDAR
VERSION:2.0
PRODID:-//StreamRadar//Match Calendar//EN
CALSCALE:GREGORIAN
METHOD:PUBLISH
X-WR-CALNAME:Godoy Cruz vs Colón
X-WR-TIMEZONE:America/New_York
BEGIN:VEVENT
UID:match-5560083@streamradar.soccer
SUMMARY:Godoy Cruz vs Colón
DTSTAMP:20260421T104302Z
DTSTART;TZID=America/New_York:20260905T160000
DTEND;TZID=America/New_York:20260905T180000
LOCATION:Estadio Feliciano Gambarte
DESCRIPTION:Gdzie oglądać Godoy Cruz vs Colón w Argentyna - Primera Naci
 onal. Transmisja na żywo i program TV.\nhttps://streamradar.soccer/pl/matc
 h/5560083/godoy-cruz-vs-colon/
URL;VALUE=URI:https://streamradar.soccer/pl/match/5560083/godoy-cruz-vs-col
 on/
STATUS:CONFIRMED
END:VEVENT
END:VCALENDAR
