BEGIN:VCALENDAR
VERSION:2.0
PRODID:-//StreamRadar//Match Calendar//EN
CALSCALE:GREGORIAN
METHOD:PUBLISH
X-WR-CALNAME:Colegiales vs Nueva Chicago
X-WR-TIMEZONE:America/New_York
BEGIN:VEVENT
UID:match-5560079@streamradar.soccer
SUMMARY:Colegiales vs Nueva Chicago
DTSTAMP:20260421T093008Z
DTSTART;TZID=America/New_York:20260905T160000
DTEND;TZID=America/New_York:20260905T180000
LOCATION:Estadio de Colegiales
DESCRIPTION:Gdzie oglądać Colegiales vs Nueva Chicago w Argentyna - Prime
 ra Nacional. Transmisja na żywo i program TV.\nhttps://streamradar.soccer/
 pl/match/5560079/colegiales-vs-nueva-chicago/
URL;VALUE=URI:https://streamradar.soccer/pl/match/5560079/colegiales-vs-nue
 va-chicago/
STATUS:CONFIRMED
END:VEVENT
END:VCALENDAR
