BEGIN:VCALENDAR
VERSION:2.0
PRODID:-//StreamRadar//Match Calendar//EN
CALSCALE:GREGORIAN
METHOD:PUBLISH
X-WR-CALNAME:Ceará vs Sport Recife
X-WR-TIMEZONE:America/New_York
BEGIN:VEVENT
UID:match-5559533@streamradar.soccer
SUMMARY:Ceará vs Sport Recife
DTSTAMP:20260421T155059Z
DTSTART;TZID=America/New_York:20260905T150000
DTEND;TZID=America/New_York:20260905T170000
DESCRIPTION:Gdzie oglądać Ceará vs Sport Recife w Brazylia - Serie B. Tr
 ansmisja na żywo i program TV.\nhttps://streamradar.soccer/pl/match/555953
 3/ceara-vs-sport-recife/
URL;VALUE=URI:https://streamradar.soccer/pl/match/5559533/ceara-vs-sport-re
 cife/
STATUS:CONFIRMED
END:VEVENT
END:VCALENDAR
