BEGIN:VCALENDAR
VERSION:2.0
PRODID:-//StreamRadar//Match Calendar//EN
CALSCALE:GREGORIAN
METHOD:PUBLISH
X-WR-CALNAME:Sport Recife vs Vila Nova
X-WR-TIMEZONE:America/New_York
BEGIN:VEVENT
UID:match-5559301@streamradar.soccer
SUMMARY:Sport Recife vs Vila Nova
DTSTAMP:20260422T035112Z
DTSTART;TZID=America/New_York:20260401T180000
DTEND;TZID=America/New_York:20260401T200000
LOCATION:Estadio Adelmar da Costa Carvalho
DESCRIPTION:Gdzie oglądać Sport Recife vs Vila Nova w Brazylia - Serie B.
  Transmisja na żywo i program TV.\nhttps://streamradar.soccer/pl/match/555
 9301/sport-recife-vs-vila-nova/
URL;VALUE=URI:https://streamradar.soccer/pl/match/5559301/sport-recife-vs-v
 ila-nova/
STATUS:CONFIRMED
END:VEVENT
END:VCALENDAR
