BEGIN:VCALENDAR
VERSION:2.0
PRODID:-//StreamRadar//Match Calendar//EN
CALSCALE:GREGORIAN
METHOD:PUBLISH
X-WR-CALNAME:Emelec vs Manta
X-WR-TIMEZONE:America/New_York
BEGIN:VEVENT
UID:match-5559176@streamradar.soccer
SUMMARY:Emelec vs Manta
DTSTAMP:20260422T113501Z
DTSTART;TZID=America/New_York:20260906T160000
DTEND;TZID=America/New_York:20260906T180000
LOCATION:Estadio George Capwell
DESCRIPTION:Gdzie oglądać Emelec vs Manta w Ekwador - Primera A (Ekwador)
 . Transmisja na żywo i program TV.\nhttps://streamradar.soccer/pl/match/55
 59176/emelec-vs-manta/
URL;VALUE=URI:https://streamradar.soccer/pl/match/5559176/emelec-vs-manta/
STATUS:CONFIRMED
END:VEVENT
END:VCALENDAR
