BEGIN:VCALENDAR
VERSION:2.0
PRODID:-//StreamRadar//Match Calendar//EN
CALSCALE:GREGORIAN
METHOD:PUBLISH
X-WR-CALNAME:Libertad vs Emelec
X-WR-TIMEZONE:America/New_York
BEGIN:VEVENT
UID:match-5559170@streamradar.soccer
SUMMARY:Libertad vs Emelec
DTSTAMP:20260422T013109Z
DTSTART;TZID=America/New_York:20260902T160000
DTEND;TZID=America/New_York:20260902T180000
LOCATION:Estadio Federativo Reina del Cisne
DESCRIPTION:Gdzie oglądać Libertad vs Emelec w Ekwador - Primera A (Ekwad
 or). Transmisja na żywo i program TV.\nhttps://streamradar.soccer/pl/match
 /5559170/libertad-vs-emelec/
URL;VALUE=URI:https://streamradar.soccer/pl/match/5559170/libertad-vs-emele
 c/
STATUS:CONFIRMED
END:VEVENT
END:VCALENDAR
