BEGIN:VCALENDAR
VERSION:2.0
PRODID:-//StreamRadar//Match Calendar//EN
CALSCALE:GREGORIAN
METHOD:PUBLISH
X-WR-CALNAME:Preston Lions vs Avondale
X-WR-TIMEZONE:America/New_York
BEGIN:VEVENT
UID:match-5557327@streamradar.soccer
SUMMARY:Preston Lions vs Avondale
DTSTAMP:20260422T154036Z
DTSTART;TZID=America/New_York:20260320T053000
DTEND;TZID=America/New_York:20260320T073000
LOCATION:Genis Steel Stadium
DESCRIPTION:Gdzie oglądać Preston Lions vs Avondale w Australia - NPL Vic
 toria. Transmisja na żywo i program TV.\nhttps://streamradar.soccer/pl/mat
 ch/5557327/preston-lions-vs-avondale/
URL;VALUE=URI:https://streamradar.soccer/pl/match/5557327/preston-lions-vs-
 avondale/
STATUS:CONFIRMED
END:VEVENT
END:VCALENDAR
