BEGIN:VCALENDAR
VERSION:2.0
PRODID:-//StreamRadar//Match Calendar//EN
CALSCALE:GREGORIAN
METHOD:PUBLISH
X-WR-CALNAME:St Malo US vs Avranches
X-WR-TIMEZONE:America/New_York
BEGIN:VEVENT
UID:match-5556673@streamradar.soccer
SUMMARY:St Malo US vs Avranches
DTSTAMP:20260422T195218Z
DTSTART;TZID=America/New_York:20260318T140000
DTEND;TZID=America/New_York:20260318T160000
LOCATION:Stade de Marville (Saint-Malo)
DESCRIPTION:Gdzie oglądać St Malo US vs Avranches w Francja - Championnat
  National 2. Transmisja na żywo i program TV.\nhttps://streamradar.soccer/
 pl/match/5556673/st-malo-us-vs-avranches/
URL;VALUE=URI:https://streamradar.soccer/pl/match/5556673/st-malo-us-vs-avr
 anches/
STATUS:CONFIRMED
END:VEVENT
END:VCALENDAR
