BEGIN:VCALENDAR
VERSION:2.0
PRODID:-//StreamRadar//Match Calendar//EN
CALSCALE:GREGORIAN
METHOD:PUBLISH
X-WR-CALNAME:07 Vestur vs KÍ
X-WR-TIMEZONE:America/New_York
BEGIN:VEVENT
UID:match-5535053@streamradar.soccer
SUMMARY:07 Vestur vs KÍ
DTSTAMP:20260425T132739Z
DTSTART;TZID=America/New_York:20260913T100000
DTEND;TZID=America/New_York:20260913T120000
DESCRIPTION:Gdzie oglądać 07 Vestur vs KÍ w Wyspy Owcze - Premier League
  w Wyspach Owczych. Transmisja na żywo i program TV.\nhttps://streamradar.
 soccer/pl/match/5535053/07-vestur-vs-ki/
URL;VALUE=URI:https://streamradar.soccer/pl/match/5535053/07-vestur-vs-ki/
STATUS:CONFIRMED
END:VEVENT
END:VCALENDAR
