BEGIN:VCALENDAR
VERSION:2.0
PRODID:-//StreamRadar//Match Calendar//EN
CALSCALE:GREGORIAN
METHOD:PUBLISH
X-WR-CALNAME:Hässleholms IF vs Ariana
X-WR-TIMEZONE:America/New_York
BEGIN:VEVENT
UID:match-5534750@streamradar.soccer
SUMMARY:Hässleholms IF vs Ariana
DTSTAMP:20260421T112356Z
DTSTART;TZID=America/New_York:20260916T130000
DTEND;TZID=America/New_York:20260916T150000
LOCATION:Osteras IP
DESCRIPTION:Gdzie oglądać Hässleholms IF vs Ariana w Szwecja - Ettan. Tr
 ansmisja na żywo i program TV.\nhttps://streamradar.soccer/pl/match/553475
 0/hassleholms-if-vs-ariana/
URL;VALUE=URI:https://streamradar.soccer/pl/match/5534750/hassleholms-if-vs
 -ariana/
STATUS:CONFIRMED
END:VEVENT
END:VCALENDAR
