BEGIN:VCALENDAR
VERSION:2.0
PRODID:-//StreamRadar//Match Calendar//EN
CALSCALE:GREGORIAN
METHOD:PUBLISH
X-WR-CALNAME:Piteå vs Järfälla
X-WR-TIMEZONE:America/New_York
BEGIN:VEVENT
UID:match-5534522@streamradar.soccer
SUMMARY:Piteå vs Järfälla
DTSTAMP:20260423T100917Z
DTSTART;TZID=America/New_York:20260920T083000
DTEND;TZID=America/New_York:20260920T103000
LOCATION:LF Arena
DESCRIPTION:Gdzie oglądać Piteå vs Järfälla w Szwecja - Ettan. Transmi
 sja na żywo i program TV.\nhttps://streamradar.soccer/pl/match/5534522/pit
 ea-vs-jarfalla/
URL;VALUE=URI:https://streamradar.soccer/pl/match/5534522/pitea-vs-jarfalla
 /
STATUS:CONFIRMED
END:VEVENT
END:VCALENDAR
