BEGIN:VCALENDAR
VERSION:2.0
PRODID:-//StreamRadar//Match Calendar//EN
CALSCALE:GREGORIAN
METHOD:PUBLISH
X-WR-CALNAME:Karlberg vs Arlanda
X-WR-TIMEZONE:America/New_York
BEGIN:VEVENT
UID:match-5534506@streamradar.soccer
SUMMARY:Karlberg vs Arlanda
DTSTAMP:20260421T112307Z
DTSTART;TZID=America/New_York:20260912T070000
DTEND;TZID=America/New_York:20260912T090000
LOCATION:Stadshagens IP
DESCRIPTION:Gdzie oglądać Karlberg vs Arlanda w Szwecja - Ettan. Transmis
 ja na żywo i program TV.\nhttps://streamradar.soccer/pl/match/5534506/karl
 berg-vs-arlanda/
URL;VALUE=URI:https://streamradar.soccer/pl/match/5534506/karlberg-vs-arlan
 da/
STATUS:CONFIRMED
END:VEVENT
END:VCALENDAR
