BEGIN:VCALENDAR
VERSION:2.0
PRODID:-//StreamRadar//Match Calendar//EN
CALSCALE:GREGORIAN
METHOD:PUBLISH
X-WR-CALNAME:Sollentuna vs Gefle
X-WR-TIMEZONE:America/New_York
BEGIN:VEVENT
UID:match-5534498@streamradar.soccer
SUMMARY:Sollentuna vs Gefle
DTSTAMP:20260421T112146Z
DTSTART;TZID=America/New_York:20260905T100000
DTEND;TZID=America/New_York:20260905T120000
LOCATION:Sollentunavallen
DESCRIPTION:Gdzie oglądać Sollentuna vs Gefle w Szwecja - Ettan. Transmis
 ja na żywo i program TV.\nhttps://streamradar.soccer/pl/match/5534498/soll
 entuna-vs-gefle/
URL;VALUE=URI:https://streamradar.soccer/pl/match/5534498/sollentuna-vs-gef
 le/
STATUS:CONFIRMED
END:VEVENT
END:VCALENDAR
