BEGIN:VCALENDAR
VERSION:2.0
PRODID:-//StreamRadar//Match Calendar//EN
CALSCALE:GREGORIAN
METHOD:PUBLISH
X-WR-CALNAME:El Porvenir vs Deportivo Español
X-WR-TIMEZONE:America/New_York
BEGIN:VEVENT
UID:match-5534241@streamradar.soccer
SUMMARY:El Porvenir vs Deportivo Español
DTSTAMP:20260422T054704Z
DTSTART;TZID=America/New_York:20260919T160000
DTEND;TZID=America/New_York:20260919T180000
DESCRIPTION:Gdzie oglądać El Porvenir vs Deportivo Español w Argentyna -
  Primera C Metropolitana. Transmisja na żywo i program TV.\nhttps://stream
 radar.soccer/pl/match/5534241/el-porvenir-vs-deportivo-espanol/
URL;VALUE=URI:https://streamradar.soccer/pl/match/5534241/el-porvenir-vs-de
 portivo-espanol/
STATUS:CONFIRMED
END:VEVENT
END:VCALENDAR
