BEGIN:VCALENDAR
VERSION:2.0
PRODID:-//StreamRadar//Match Calendar//EN
CALSCALE:GREGORIAN
METHOD:PUBLISH
X-WR-CALNAME:Cañuelas vs Deportivo Muñiz
X-WR-TIMEZONE:America/New_York
BEGIN:VEVENT
UID:match-5534127@streamradar.soccer
SUMMARY:Cañuelas vs Deportivo Muñiz
DTSTAMP:20260422T015636Z
DTSTART;TZID=America/New_York:20260725T160000
DTEND;TZID=America/New_York:20260725T180000
DESCRIPTION:Gdzie oglądać Cañuelas vs Deportivo Muñiz w Argentyna - Pri
 mera C Metropolitana. Transmisja na żywo i program TV.\nhttps://streamrada
 r.soccer/pl/match/5534127/canuelas-vs-deportivo-muniz/
URL;VALUE=URI:https://streamradar.soccer/pl/match/5534127/canuelas-vs-depor
 tivo-muniz/
STATUS:CONFIRMED
END:VEVENT
END:VCALENDAR
