BEGIN:VCALENDAR
VERSION:2.0
PRODID:-//StreamRadar//Match Calendar//EN
CALSCALE:GREGORIAN
METHOD:PUBLISH
X-WR-CALNAME:La Serena vs Universidad Chile
X-WR-TIMEZONE:America/New_York
BEGIN:VEVENT
UID:match-5530006@streamradar.soccer
SUMMARY:La Serena vs Universidad Chile
DTSTAMP:20260421T095930Z
DTSTART;TZID=America/New_York:20260913T160000
DTEND;TZID=America/New_York:20260913T180000
LOCATION:Estadio La Portada
DESCRIPTION:Gdzie oglądać La Serena vs Universidad Chile w Chile - Primer
 a División Chile. Transmisja na żywo i program TV.\nhttps://streamradar.s
 occer/pl/match/5530006/la-serena-vs-universidad-chile/
URL;VALUE=URI:https://streamradar.soccer/pl/match/5530006/la-serena-vs-univ
 ersidad-chile/
STATUS:CONFIRMED
END:VEVENT
END:VCALENDAR
