BEGIN:VCALENDAR
VERSION:2.0
PRODID:-//StreamRadar//Match Calendar//EN
CALSCALE:GREGORIAN
METHOD:PUBLISH
X-WR-CALNAME:Cobresal vs Coquimbo Unido
X-WR-TIMEZONE:America/New_York
BEGIN:VEVENT
UID:match-5530004@streamradar.soccer
SUMMARY:Cobresal vs Coquimbo Unido
DTSTAMP:20260421T095825Z
DTSTART;TZID=America/New_York:20260913T160000
DTEND;TZID=America/New_York:20260913T180000
LOCATION:Estadio El Cobre de El Salvador
DESCRIPTION:Gdzie oglądać Cobresal vs Coquimbo Unido w Chile - Primera Di
 visión Chile. Transmisja na żywo i program TV.\nhttps://streamradar.socce
 r/pl/match/5530004/cobresal-vs-coquimbo-unido/
URL;VALUE=URI:https://streamradar.soccer/pl/match/5530004/cobresal-vs-coqui
 mbo-unido/
STATUS:CONFIRMED
END:VEVENT
END:VCALENDAR
