BEGIN:VCALENDAR
VERSION:2.0
PRODID:-//StreamRadar//Match Calendar//EN
CALSCALE:GREGORIAN
METHOD:PUBLISH
X-WR-CALNAME:Fort Wayne vs One Knoxville
X-WR-TIMEZONE:America/New_York
BEGIN:VEVENT
UID:match-5509601@streamradar.soccer
SUMMARY:Fort Wayne vs One Knoxville
DTSTAMP:20260421T063112Z
DTSTART;TZID=America/New_York:20260916T193000
DTEND;TZID=America/New_York:20260916T213000
DESCRIPTION:Gdzie oglądać Fort Wayne vs One Knoxville w Stany Zjednoczone
  - USL League One. Transmisja na żywo i program TV.\nhttps://streamradar.s
 occer/pl/match/5509601/fort-wayne-vs-one-knoxville/
URL;VALUE=URI:https://streamradar.soccer/pl/match/5509601/fort-wayne-vs-one
 -knoxville/
STATUS:CONFIRMED
END:VEVENT
END:VCALENDAR
