BEGIN:VCALENDAR
VERSION:2.0
PRODID:-//StreamRadar//Match Calendar//EN
CALSCALE:GREGORIAN
METHOD:PUBLISH
X-WR-CALNAME:Corpus Christi vs Union Omaha
X-WR-TIMEZONE:America/New_York
BEGIN:VEVENT
UID:match-5509591@streamradar.soccer
SUMMARY:Corpus Christi vs Union Omaha
DTSTAMP:20260421T080742Z
DTSTART;TZID=America/New_York:20260912T203000
DTEND;TZID=America/New_York:20260912T223000
DESCRIPTION:Gdzie oglądać Corpus Christi vs Union Omaha w Stany Zjednoczo
 ne - USL League One. Transmisja na żywo i program TV.\nhttps://streamradar
 .soccer/pl/match/5509591/corpus-christi-vs-union-omaha/
URL;VALUE=URI:https://streamradar.soccer/pl/match/5509591/corpus-christi-vs
 -union-omaha/
STATUS:CONFIRMED
END:VEVENT
END:VCALENDAR
