BEGIN:VCALENDAR
VERSION:2.0
PRODID:-//StreamRadar//Match Calendar//EN
CALSCALE:GREGORIAN
METHOD:PUBLISH
X-WR-CALNAME:Djurgården vs Kristianstad
X-WR-TIMEZONE:America/New_York
BEGIN:VEVENT
UID:match-5509147@streamradar.soccer
SUMMARY:Djurgården vs Kristianstad
DTSTAMP:20260421T161644Z
DTSTART;TZID=America/New_York:20260913T090000
DTEND;TZID=America/New_York:20260913T110000
LOCATION:Stockholms Olympiastadion
DESCRIPTION:Gdzie oglądać Djurgården vs Kristianstad w Szwecja - Damalls
 venskan. Transmisja na żywo i program TV.\nhttps://streamradar.soccer/pl/m
 atch/5509147/djurgarden-vs-kristianstad/
URL;VALUE=URI:https://streamradar.soccer/pl/match/5509147/djurgarden-vs-kri
 stianstad/
STATUS:CONFIRMED
END:VEVENT
END:VCALENDAR
