BEGIN:VCALENDAR
VERSION:2.0
PRODID:-//StreamRadar//Match Calendar//EN
CALSCALE:GREGORIAN
METHOD:PUBLISH
X-WR-CALNAME:Djurgården vs Rosengård
X-WR-TIMEZONE:America/New_York
BEGIN:VEVENT
UID:match-5509140@streamradar.soccer
SUMMARY:Djurgården vs Rosengård
DTSTAMP:20260421T161657Z
DTSTART;TZID=America/New_York:20260906T090000
DTEND;TZID=America/New_York:20260906T110000
LOCATION:Stockholms Olympiastadion
DESCRIPTION:Gdzie oglądać Djurgården vs Rosengård w Szwecja - Damallsve
 nskan. Transmisja na żywo i program TV.\nhttps://streamradar.soccer/pl/mat
 ch/5509140/djurgarden-vs-rosengard/
URL;VALUE=URI:https://streamradar.soccer/pl/match/5509140/djurgarden-vs-ros
 engard/
STATUS:CONFIRMED
END:VEVENT
END:VCALENDAR
