BEGIN:VCALENDAR
VERSION:2.0
PRODID:-//StreamRadar//Match Calendar//EN
CALSCALE:GREGORIAN
METHOD:PUBLISH
X-WR-CALNAME:Sotra vs Sandviken
X-WR-TIMEZONE:America/New_York
BEGIN:VEVENT
UID:match-5508785@streamradar.soccer
SUMMARY:Sotra vs Sandviken
DTSTAMP:20260421T133455Z
DTSTART;TZID=America/New_York:20260912T080000
DTEND;TZID=America/New_York:20260912T100000
LOCATION:Straume Fotballhall
DESCRIPTION:Gdzie oglądać Sotra vs Sandviken w Norwegia - 2. Divisjon. Tr
 ansmisja na żywo i program TV.\nhttps://streamradar.soccer/pl/match/550878
 5/sotra-vs-sandviken/
URL;VALUE=URI:https://streamradar.soccer/pl/match/5508785/sotra-vs-sandvike
 n/
STATUS:CONFIRMED
END:VEVENT
END:VCALENDAR
