BEGIN:VCALENDAR
VERSION:2.0
PRODID:-//StreamRadar//Match Calendar//EN
CALSCALE:GREGORIAN
METHOD:PUBLISH
X-WR-CALNAME:Kongsvinger vs Hødd
X-WR-TIMEZONE:America/New_York
BEGIN:VEVENT
UID:match-5507623@streamradar.soccer
SUMMARY:Kongsvinger vs Hødd
DTSTAMP:20260425T174333Z
DTSTART;TZID=America/New_York:20260920T110000
DTEND;TZID=America/New_York:20260920T130000
LOCATION:Gjemselund Stadion
DESCRIPTION:Gdzie oglądać Kongsvinger vs Hødd w Norwegia - OBOS-ligaen. 
 Transmisja na żywo i program TV.\nhttps://streamradar.soccer/pl/match/5507
 623/kongsvinger-vs-hodd/
URL;VALUE=URI:https://streamradar.soccer/pl/match/5507623/kongsvinger-vs-ho
 dd/
STATUS:CONFIRMED
END:VEVENT
END:VCALENDAR
