BEGIN:VCALENDAR
VERSION:2.0
PRODID:-//StreamRadar//Match Calendar//EN
CALSCALE:GREGORIAN
METHOD:PUBLISH
X-WR-CALNAME:Kerry vs Bray Wanderers
X-WR-TIMEZONE:America/New_York
BEGIN:VEVENT
UID:match-5507393@streamradar.soccer
SUMMARY:Kerry vs Bray Wanderers
DTSTAMP:20260425T115839Z
DTSTART;TZID=America/New_York:20260911T144500
DTEND;TZID=America/New_York:20260911T164500
LOCATION:Mounthawk Park
DESCRIPTION:Gdzie oglądać Kerry vs Bray Wanderers w Premier Division. Tra
 nsmisja na żywo i program TV.\nhttps://streamradar.soccer/pl/match/5507393
 /kerry-vs-bray-wanderers/
URL;VALUE=URI:https://streamradar.soccer/pl/match/5507393/kerry-vs-bray-wan
 derers/
STATUS:CONFIRMED
END:VEVENT
END:VCALENDAR
