BEGIN:VCALENDAR
VERSION:2.0
PRODID:-//StreamRadar//Match Calendar//EN
CALSCALE:GREGORIAN
METHOD:PUBLISH
X-WR-CALNAME:San Diego vs SJ Earthquakes
X-WR-TIMEZONE:America/New_York
BEGIN:VEVENT
UID:match-5505158@streamradar.soccer
SUMMARY:San Diego vs SJ Earthquakes
DTSTAMP:20260425T115904Z
DTSTART;TZID=America/New_York:20260909T223000
DTEND;TZID=America/New_York:20260910T003000
LOCATION:Snapdragon Stadium
DESCRIPTION:Gdzie oglądać San Diego vs SJ Earthquakes w Major League Socc
 er. Transmisja na żywo i program TV.\nhttps://streamradar.soccer/pl/match/
 5505158/san-diego-vs-sj-earthquakes/
URL;VALUE=URI:https://streamradar.soccer/pl/match/5505158/san-diego-vs-sj-e
 arthquakes/
STATUS:CONFIRMED
END:VEVENT
END:VCALENDAR
