BEGIN:VCALENDAR
VERSION:2.0
PRODID:-//StreamRadar//Match Calendar//EN
CALSCALE:GREGORIAN
METHOD:PUBLISH
X-WR-CALNAME:Botafogo vs RB Bragantino
X-WR-TIMEZONE:America/New_York
BEGIN:VEVENT
UID:match-5504553@streamradar.soccer
SUMMARY:Botafogo vs RB Bragantino
DTSTAMP:20260421T092415Z
DTSTART;TZID=America/New_York:20260913T160000
DTEND;TZID=America/New_York:20260913T180000
LOCATION:Estadio Olimpico Nilton Santos
DESCRIPTION:Gdzie oglądać Botafogo vs RB Bragantino w Brazylia - Brasilei
 rão. Transmisja na żywo i program TV.\nhttps://streamradar.soccer/pl/matc
 h/5504553/botafogo-vs-rb-bragantino/
URL;VALUE=URI:https://streamradar.soccer/pl/match/5504553/botafogo-vs-rb-br
 agantino/
STATUS:CONFIRMED
END:VEVENT
END:VCALENDAR
