BEGIN:VCALENDAR
VERSION:2.0
PRODID:-//StreamRadar//Match Calendar//EN
CALSCALE:GREGORIAN
METHOD:PUBLISH
X-WR-CALNAME:São Paulo vs Atlético Mineiro
X-WR-TIMEZONE:America/New_York
BEGIN:VEVENT
UID:match-5504549@streamradar.soccer
SUMMARY:São Paulo vs Atlético Mineiro
DTSTAMP:20260421T093633Z
DTSTART;TZID=America/New_York:20260906T160000
DTEND;TZID=America/New_York:20260906T180000
LOCATION:Estadio Do MorumBIS
DESCRIPTION:Gdzie oglądać São Paulo vs Atlético Mineiro w Brazylia - Br
 asileirão. Transmisja na żywo i program TV.\nhttps://streamradar.soccer/p
 l/match/5504549/sao-paulo-vs-atletico-mineiro/
URL;VALUE=URI:https://streamradar.soccer/pl/match/5504549/sao-paulo-vs-atle
 tico-mineiro/
STATUS:CONFIRMED
END:VEVENT
END:VCALENDAR
