BEGIN:VCALENDAR
VERSION:2.0
PRODID:-//StreamRadar//Match Calendar//EN
CALSCALE:GREGORIAN
METHOD:PUBLISH
X-WR-CALNAME:San Lorenzo vs Boca Juniors
X-WR-TIMEZONE:America/New_York
BEGIN:VEVENT
UID:match-5504198@streamradar.soccer
SUMMARY:San Lorenzo vs Boca Juniors
DTSTAMP:20260423T084000Z
DTSTART;TZID=America/New_York:20260920T160000
DTEND;TZID=America/New_York:20260920T180000
LOCATION:Estadio Pedro Bidegain
DESCRIPTION:Gdzie oglądać San Lorenzo vs Boca Juniors w Argentyna - Prime
 ra División Argentine dywizja. Transmisja na żywo i program TV.\nhttps://
 streamradar.soccer/pl/match/5504198/san-lorenzo-vs-boca-juniors/
URL;VALUE=URI:https://streamradar.soccer/pl/match/5504198/san-lorenzo-vs-bo
 ca-juniors/
STATUS:CONFIRMED
END:VEVENT
END:VCALENDAR
