BEGIN:VCALENDAR
VERSION:2.0
PRODID:-//StreamRadar//Match Calendar//EN
CALSCALE:GREGORIAN
METHOD:PUBLISH
X-WR-CALNAME:Lanús vs Estudiantes
X-WR-TIMEZONE:America/New_York
BEGIN:VEVENT
UID:match-5504193@streamradar.soccer
SUMMARY:Lanús vs Estudiantes
DTSTAMP:20260423T083932Z
DTSTART;TZID=America/New_York:20260920T160000
DTEND;TZID=America/New_York:20260920T180000
DESCRIPTION:Gdzie oglądać Lanús vs Estudiantes w Argentyna - Primera Div
 isión Argentine dywizja. Transmisja na żywo i program TV.\nhttps://stream
 radar.soccer/pl/match/5504193/lanus-vs-estudiantes/
URL;VALUE=URI:https://streamradar.soccer/pl/match/5504193/lanus-vs-estudian
 tes/
STATUS:CONFIRMED
END:VEVENT
END:VCALENDAR
