BEGIN:VCALENDAR
VERSION:2.0
PRODID:-//StreamRadar//Match Calendar//EN
CALSCALE:GREGORIAN
METHOD:PUBLISH
X-WR-CALNAME:Instituto vs Talleres Córdoba
X-WR-TIMEZONE:America/New_York
BEGIN:VEVENT
UID:match-5504192@streamradar.soccer
SUMMARY:Instituto vs Talleres Córdoba
DTSTAMP:20260423T083953Z
DTSTART;TZID=America/New_York:20260920T160000
DTEND;TZID=America/New_York:20260920T180000
LOCATION:Estadio Presidente Peron
DESCRIPTION:Gdzie oglądać Instituto vs Talleres Córdoba w Argentyna - Pr
 imera División Argentine dywizja. Transmisja na żywo i program TV.\nhttps
 ://streamradar.soccer/pl/match/5504192/instituto-vs-talleres-cordoba/
URL;VALUE=URI:https://streamradar.soccer/pl/match/5504192/instituto-vs-tall
 eres-cordoba/
STATUS:CONFIRMED
END:VEVENT
END:VCALENDAR
