BEGIN:VCALENDAR
VERSION:2.0
PRODID:-//StreamRadar//Match Calendar//EN
CALSCALE:GREGORIAN
METHOD:PUBLISH
X-WR-CALNAME:Tigre vs Rosario Central
X-WR-TIMEZONE:America/New_York
BEGIN:VEVENT
UID:match-5504185@streamradar.soccer
SUMMARY:Tigre vs Rosario Central
DTSTAMP:20260421T050819Z
DTSTART;TZID=America/New_York:20260913T160000
DTEND;TZID=America/New_York:20260913T180000
DESCRIPTION:Gdzie oglądać Tigre vs Rosario Central w Argentyna - Primera 
 División Argentine dywizja. Transmisja na żywo i program TV.\nhttps://str
 eamradar.soccer/pl/match/5504185/tigre-vs-rosario-central/
URL;VALUE=URI:https://streamradar.soccer/pl/match/5504185/tigre-vs-rosario-
 central/
STATUS:CONFIRMED
END:VEVENT
END:VCALENDAR
