BEGIN:VCALENDAR
VERSION:2.0
PRODID:-//StreamRadar//Match Calendar//EN
CALSCALE:GREGORIAN
METHOD:PUBLISH
X-WR-CALNAME:Sarmiento vs Belgrano
X-WR-TIMEZONE:America/New_York
BEGIN:VEVENT
UID:match-5504183@streamradar.soccer
SUMMARY:Sarmiento vs Belgrano
DTSTAMP:20260421T050502Z
DTSTART;TZID=America/New_York:20260913T160000
DTEND;TZID=America/New_York:20260913T180000
LOCATION:Estadio Eva Peron
DESCRIPTION:Gdzie oglądać Sarmiento vs Belgrano w Argentyna - Primera Div
 isión Argentine dywizja. Transmisja na żywo i program TV.\nhttps://stream
 radar.soccer/pl/match/5504183/sarmiento-vs-belgrano/
URL;VALUE=URI:https://streamradar.soccer/pl/match/5504183/sarmiento-vs-belg
 rano/
STATUS:CONFIRMED
END:VEVENT
END:VCALENDAR
