BEGIN:VCALENDAR
VERSION:2.0
PRODID:-//StreamRadar//Match Calendar//EN
CALSCALE:GREGORIAN
METHOD:PUBLISH
X-WR-CALNAME:Newell's Old Boys vs Vélez Sarsfield
X-WR-TIMEZONE:America/New_York
BEGIN:VEVENT
UID:match-5504182@streamradar.soccer
SUMMARY:Newell's Old Boys vs Vélez Sarsfield
DTSTAMP:20260421T063254Z
DTSTART;TZID=America/New_York:20260913T160000
DTEND;TZID=America/New_York:20260913T180000
LOCATION:Estadio Marcelo Bielsa
DESCRIPTION:Gdzie oglądać Newell's Old Boys vs Vélez Sarsfield w Argenty
 na - Primera División Argentine dywizja. Transmisja na żywo i program TV.
 \nhttps://streamradar.soccer/pl/match/5504182/newells-old-boys-vs-velez-sar
 sfield/
URL;VALUE=URI:https://streamradar.soccer/pl/match/5504182/newells-old-boys-
 vs-velez-sarsfield/
STATUS:CONFIRMED
END:VEVENT
END:VCALENDAR
