BEGIN:VCALENDAR
VERSION:2.0
PRODID:-//StreamRadar//Match Calendar//EN
CALSCALE:GREGORIAN
METHOD:PUBLISH
X-WR-CALNAME:Instituto vs Estudiantes Río Cuarto
X-WR-TIMEZONE:America/New_York
BEGIN:VEVENT
UID:match-5504181@streamradar.soccer
SUMMARY:Instituto vs Estudiantes Río Cuarto
DTSTAMP:20260421T063040Z
DTSTART;TZID=America/New_York:20260913T160000
DTEND;TZID=America/New_York:20260913T180000
LOCATION:Estadio Presidente Peron
DESCRIPTION:Gdzie oglądać Instituto vs Estudiantes Río Cuarto w Argentyn
 a - Primera División Argentine dywizja. Transmisja na żywo i program TV.\
 nhttps://streamradar.soccer/pl/match/5504181/instituto-vs-estudiantes-rio-c
 uarto/
URL;VALUE=URI:https://streamradar.soccer/pl/match/5504181/instituto-vs-estu
 diantes-rio-cuarto/
STATUS:CONFIRMED
END:VEVENT
END:VCALENDAR
